BEGIN:VCALENDAR
VERSION:2.0
PRODID:-//wp-events-plugin.com//7.2.3.1//EN
BEGIN:VEVENT
UID:92@hv-ndl.de
DTSTART:20250109T190000Z
DTEND:20250109T200000Z
DTSTAMP:20250113T082646Z
URL:https://www.hv-ndl.de/events/stammtisch-der-vereine/
SUMMARY:Stammtisch der Vereine
DESCRIPTION:\n\nGemeinsam für ein aktives Vereinsleben\n\nVereinsarbeit le
 bt vom Austausch und der Zusammenarbeit. Der Stammtisch der Vereine ist ei
 ne wertvolle Plattform für Austausch\, Zusammenarbeit und neue Ideen. Hie
 r kommen regelmäßig Vertreterinnen und Vertreter der verschiedenen Verei
 ne zusammen\, um gemeinsam vergangene Projekte auszuwerten\, zukünftige V
 eranstaltungen zu planen\, neue Ideen entwickeln und die Zusammenarbeit zu
  stärken.\n\nIn diesem Jahr fanden wieder vier Stammtische statt. Wir tra
 fen uns alle viertel Jahr im Feuerwehraus der Freiwilligen Feuerwehr.\n\nD
 ie Tagesordnung ist flexibel und bietet Raum für verschiedene Themen.\n\n
 Für Rückfragen stehen die Organisatoren gerne zur Verfügung:\n\n 	Heima
 tverein: Anne Libbe\n annelibbe@gmail.com\n 0179/4474100\n\nGemeinsam gest
 alten wir das Vereinsleben in Niederndodeleben lebendig und vielfältig.\n
 \nNächstes Treffen\n Ort: Feuerwehrhaus Schnarsleben\n Datum: Donnerstag\
 , 09. Januar 2025\n Uhrzeit: 19:00 Uhr\n\n
ATTACH;FMTTYPE=image/jpeg:https://www.hv-ndl.de/wp-content/uploads/2024/12
 /Logo-Kopie.jpg
LOCATION:Freiwillige Feuerwehr Schnarsleben\, Ringstraße 62\, Niederndodel
 eben\, Sachsen Anhalt\, 39167\, Deutschland
X-APPLE-STRUCTURED-LOCATION;VALUE=URI;X-ADDRESS=Ringstraße 62\, Niederndod
 eleben\, Sachsen Anhalt\, 39167\, Deutschland;X-APPLE-RADIUS=100;X-TITLE=F
 reiwillige Feuerwehr Schnarsleben:geo:0,0
END:VEVENT
END:VCALENDAR