BEGIN:VCALENDAR
VERSION:2.0
PRODID:-//wp-events-plugin.com//7.2.3.1//EN
BEGIN:VEVENT
UID:9@hv-ndl.de
DTSTART:20221030T150000Z
DTEND:20221030T170000Z
DTSTAMP:20221009T103710Z
URL:https://www.hv-ndl.de/events/lesung-mit-manfred-helmecke/
SUMMARY:Lesung mit Manfred Helmecke
DESCRIPTION:„Leben und Angeln hinter dem Polarkreis“ in der Bücherstub
 e im Altenbetreuungszentrum am 30. Oktober um 15 Uhr\nEine Lesung zum Them
 a Norwegen. Endlose\, mystische Natur\, die Dunkelheit im Winter\, das Leb
 en mit der Kälte: All das prägen die Menschen\, die dort leben.\nDie Fam
 ilie Helmecke verbrachte ein Jahr auf der Halbinsel Senja und der Eismeeri
 nsel Spitzbergen. Davon wird er uns berichten.\nAb 14:00 Uhr gibt es Kaffe
 e und Kuchen und um 15:00 Uhr beginnt die Lesung.
ATTACH;FMTTYPE=image/jpeg:https://www.hv-ndl.de/wp-content/uploads/2022/10
 /Leben-und-Angeln-hinter-dem-Polarkreis.jpg
LOCATION:Bücherstube\, Friedrich-Ebert-Straße 2A\, Hohe Börde\, 39167\, 
 Deutschland
X-APPLE-STRUCTURED-LOCATION;VALUE=URI;X-ADDRESS=Friedrich-Ebert-Straße 2A\
 , Hohe Börde\, 39167\, Deutschland;X-APPLE-RADIUS=100;X-TITLE=Bücherstub
 e:geo:0,0
END:VEVENT
END:VCALENDAR