BEGIN:VCALENDAR
VERSION:2.0
PRODID:-//wp-events-plugin.com//7.2.3.1//EN
BEGIN:VEVENT
UID:62@hv-ndl.de
DTSTART:20240907T110000Z
DTEND:20240907T190000Z
DTSTAMP:20240813T150134Z
URL:https://www.hv-ndl.de/events/15-boerdehoffest/
SUMMARY:15. Bördehoffest
DESCRIPTION:
LOCATION:Bördehoffest-Lageplan\, Mittelstraße &amp\; August-Bebel-Straße
 \, Niederndodeleben\, 39167\, Hohe Börde\, Deutschland
X-APPLE-STRUCTURED-LOCATION;VALUE=URI;X-ADDRESS=Mittelstraße & August-Bebe
 l-Straße\, Niederndodeleben\, 39167\, Hohe Börde\, Deutschland;X-APPLE-R
 ADIUS=100;X-TITLE=Bördehoffest-Lageplan:geo:0,0
END:VEVENT
END:VCALENDAR